BEGIN:VCALENDAR
VERSION:2.0
PRODID:-//AC and Heating Services | SOS Air Solutions - ECPv5.16.4//NONSGML v1.0//EN
CALSCALE:GREGORIAN
METHOD:PUBLISH
X-ORIGINAL-URL:https://sosairsolution.com
X-WR-CALDESC:Events for AC and Heating Services | SOS Air Solutions
REFRESH-INTERVAL;VALUE=DURATION:PT1H
X-Robots-Tag:noindex
X-PUBLISHED-TTL:PT1H
BEGIN:VTIMEZONE
TZID:UTC
BEGIN:STANDARD
TZOFFSETFROM:+0000
TZOFFSETTO:+0000
TZNAME:UTC
DTSTART:20180101T000000
END:STANDARD
END:VTIMEZONE
BEGIN:VEVENT
DTSTART;VALUE=DATE:20180415
DTEND;VALUE=DATE:20181217
DTSTAMP:20260420T031130
CREATED:20171006T130210Z
LAST-MODIFIED:20171006T130210Z
UID:2356-1523750400-1545004799@sosairsolution.com
SUMMARY:New Central Unit
DESCRIPTION:It’s time to install the New Central A/C Unit of your dreams! \nFree 5 years parts and labor warranty with purchase 299$ Value!
URL:https://sosairsolution.com/special-offer/new-central-unit/
CATEGORIES:Special Offers
ATTACH;FMTTYPE=image/jpeg:https://sosairsolution.com/wp-content/uploads/2018/04/gallery-6.jpg
END:VEVENT
END:VCALENDAR